{
 "currentVersion": 10.9,
 "serviceDescription": "Montpelier NE Aerial imagery Base from 2016",
 "name": "MPdata/Base_Aerial_NE_2016",
 "description": "Montpelier NE Aerial imagery Base from 2016",
 "extent": {
  "xmin": 1.1571032360322347E7,
  "ymin": 6749993.157159152,
  "xmax": 1.1592328249489013E7,
  "ymax": 6775813.315492486,
  "spatialReference": {
   "wkid": 103176,
   "latestWkid": 6593
  }
 },
 "initialExtent": {
  "xmin": 1.1571032360322347E7,
  "ymin": 6749993.157159152,
  "xmax": 1.1592328249489013E7,
  "ymax": 6775813.315492486,
  "spatialReference": {
   "wkid": 103176,
   "latestWkid": 6593
  }
 },
 "fullExtent": {
  "xmin": 1.1571032360322347E7,
  "ymin": 6749993.157159152,
  "xmax": 1.1592328249489013E7,
  "ymax": 6775813.315492486,
  "spatialReference": {
   "wkid": 103176,
   "latestWkid": 6593
  }
 },
 "pixelSizeX": 3.2808333333332604,
 "pixelSizeY": 3.2808333333333177,
 "bandCount": 4,
 "pixelType": "U8",
 "minPixelSize": 0,
 "maxPixelSize": 0,
 "copyrightText": "University of Arkansas, CAST",
 "serviceDataType": "esriImageServiceDataTypeGeneric",
 "minValues": [
  26,
  36,
  48,
  1
 ],
 "maxValues": [
  255,
  255,
  255,
  253
 ],
 "meanValues": [
  126.30227775711,
  141.28060835074,
  124.29094215298,
  181.55849494845
 ],
 "stdvValues": [
  46.251104755624,
  38.04038431184,
  29.90802687553,
  56.138051973954
 ],
 "objectIdField": "",
 "fields": [],
 "capabilities": "Image,Metadata,Mensuration",
 "defaultMosaicMethod": "Center",
 "allowedMosaicMethods": "",
 "sortField": "",
 "sortValue": null,
 "sortAscending": true,
 "mosaicOperator": "First",
 "defaultCompressionQuality": 75,
 "defaultResamplingMethod": "Bilinear",
 "maxImageHeight": 4100,
 "maxImageWidth": 15000,
 "allowRasterFunction": true,
 "rasterFunctionInfos": [
  {
   "name": "None",
   "description": "",
   "help": ""
  }
 ],
 "rasterTypeInfos": [
  {
   "name": "Raster Dataset",
   "description": "Supports all ArcGIS Raster Datasets",
   "help": ""
  }
 ],
 "mensurationCapabilities": "Basic",
 "hasHistograms": true,
 "hasColormap": false,
 "hasRasterAttributeTable": false,
 "minScale": 0,
 "maxScale": 0,
 "exportTilesAllowed": false,
 "hasMultidimensions": false,
 "supportsStatistics": false,
 "supportsAdvancedQueries": false,
 "editFieldsInfo": null,
 "ownershipBasedAccessControlForRasters": null,
 "allowComputeTiePoints": false,
 "useStandardizedQueries": true,
 "advancedQueryCapabilities": {
  "useStandardizedQueries": true,
  "supportsStatistics": false,
  "supportsOrderBy": false,
  "supportsDistinct": false,
  "supportsPagination": false
 },
 "spatialReference": {
  "wkid": 103176,
  "latestWkid": 6593
 }
}
