{
 "currentVersion": 10.9,
 "serviceDescription": "Montpelier NW Aerial Imagery Base from 2016",
 "name": "MPdata/Base_Aerial_NW_2016",
 "description": "Montpelier NW Aerial Imagery Base from 2016",
 "extent": {
  "xmin": 1.1553084432238331E7,
  "ymin": 6749936.64618526,
  "xmax": 1.157436391723833E7,
  "ymax": 6775743.68118526,
  "spatialReference": {
   "wkid": 103176,
   "latestWkid": 6593
  }
 },
 "initialExtent": {
  "xmin": 1.1553084432238331E7,
  "ymin": 6749936.64618526,
  "xmax": 1.157436391723833E7,
  "ymax": 6775743.68118526,
  "spatialReference": {
   "wkid": 103176,
   "latestWkid": 6593
  }
 },
 "fullExtent": {
  "xmin": 1.1553084432238331E7,
  "ymin": 6749936.64618526,
  "xmax": 1.157436391723833E7,
  "ymax": 6775743.68118526,
  "spatialReference": {
   "wkid": 103176,
   "latestWkid": 6593
  }
 },
 "pixelSizeX": 3.2808333333332413,
 "pixelSizeY": 3.2808333333333524,
 "bandCount": 4,
 "pixelType": "U8",
 "minPixelSize": 0,
 "maxPixelSize": 0,
 "copyrightText": "University of Arkansas, CAST",
 "serviceDataType": "esriImageServiceDataTypeGeneric",
 "minValues": [
  26,
  36,
  38,
  1
 ],
 "maxValues": [
  255,
  255,
  255,
  254
 ],
 "meanValues": [
  133.84907958899,
  149.73879409576,
  127.98027056315,
  187.21721197366
 ],
 "stdvValues": [
  47.614002321347,
  37.760933617215,
  32.280252206983,
  53.200109516099
 ],
 "objectIdField": "",
 "fields": [],
 "capabilities": "Image,Metadata,Mensuration",
 "defaultMosaicMethod": "Center",
 "allowedMosaicMethods": "",
 "sortField": "",
 "sortValue": null,
 "sortAscending": true,
 "mosaicOperator": "First",
 "defaultCompressionQuality": 75,
 "defaultResamplingMethod": "Bilinear",
 "maxImageHeight": 4100,
 "maxImageWidth": 15000,
 "allowRasterFunction": true,
 "rasterFunctionInfos": [
  {
   "name": "None",
   "description": "",
   "help": ""
  }
 ],
 "rasterTypeInfos": [
  {
   "name": "Raster Dataset",
   "description": "Supports all ArcGIS Raster Datasets",
   "help": ""
  }
 ],
 "mensurationCapabilities": "Basic",
 "hasHistograms": true,
 "hasColormap": false,
 "hasRasterAttributeTable": false,
 "minScale": 0,
 "maxScale": 0,
 "exportTilesAllowed": false,
 "hasMultidimensions": false,
 "supportsStatistics": false,
 "supportsAdvancedQueries": false,
 "editFieldsInfo": null,
 "ownershipBasedAccessControlForRasters": null,
 "allowComputeTiePoints": false,
 "useStandardizedQueries": true,
 "advancedQueryCapabilities": {
  "useStandardizedQueries": true,
  "supportsStatistics": false,
  "supportsOrderBy": false,
  "supportsDistinct": false,
  "supportsPagination": false
 },
 "spatialReference": {
  "wkid": 103176,
  "latestWkid": 6593
 }
}
