{
 "currentVersion": 10.9,
 "serviceDescription": "Montpelier Arlington House Ortho-mosaic Feb 28, 2018",
 "name": "MPdata/Base_ArlingtonHouse20180228_v2Orthomosaic",
 "description": "Montpelier Arlington House Ortho-mosaic Feb 28, 2018",
 "extent": {
  "xmin": 1.1570075347782303E7,
  "ymin": 6762163.473526062,
  "xmax": 1.1573636710278986E7,
  "ymax": 6764588.016445996,
  "spatialReference": {
   "wkid": 103176,
   "latestWkid": 6593
  }
 },
 "initialExtent": {
  "xmin": 1.1570075347782303E7,
  "ymin": 6762163.473526062,
  "xmax": 1.1573636710278986E7,
  "ymax": 6764588.016445996,
  "spatialReference": {
   "wkid": 103176,
   "latestWkid": 6593
  }
 },
 "fullExtent": {
  "xmin": 1.1570075347782303E7,
  "ymin": 6762163.473526062,
  "xmax": 1.1573636710278986E7,
  "ymax": 6764588.016445996,
  "spatialReference": {
   "wkid": 103176,
   "latestWkid": 6593
  }
 },
 "pixelSizeX": 0.08402214166666763,
 "pixelSizeY": 0.0840221416666827,
 "bandCount": 4,
 "pixelType": "U8",
 "minPixelSize": 0,
 "maxPixelSize": 0,
 "copyrightText": "University of Arkansas, CAST",
 "serviceDataType": "esriImageServiceDataTypeGeneric",
 "minValues": [
  0,
  0,
  0,
  0
 ],
 "maxValues": [
  255,
  255,
  255,
  255
 ],
 "meanValues": [
  57.954953578019,
  61.16818714243,
  53.777789060854,
  138.92901150817
 ],
 "stdvValues": [
  55.182123650307,
  58.200492727592,
  51.30832153707,
  126.98672257024
 ],
 "objectIdField": "",
 "fields": [],
 "capabilities": "Image,Metadata,Mensuration",
 "defaultMosaicMethod": "Center",
 "allowedMosaicMethods": "",
 "sortField": "",
 "sortValue": null,
 "sortAscending": true,
 "mosaicOperator": "First",
 "defaultCompressionQuality": 75,
 "defaultResamplingMethod": "Bilinear",
 "maxImageHeight": 4100,
 "maxImageWidth": 15000,
 "allowRasterFunction": true,
 "rasterFunctionInfos": [
  {
   "name": "None",
   "description": "",
   "help": ""
  }
 ],
 "rasterTypeInfos": [
  {
   "name": "Raster Dataset",
   "description": "Supports all ArcGIS Raster Datasets",
   "help": ""
  }
 ],
 "mensurationCapabilities": "Basic",
 "hasHistograms": true,
 "hasColormap": false,
 "hasRasterAttributeTable": false,
 "minScale": 0,
 "maxScale": 0,
 "exportTilesAllowed": false,
 "hasMultidimensions": false,
 "supportsStatistics": false,
 "supportsAdvancedQueries": false,
 "editFieldsInfo": null,
 "ownershipBasedAccessControlForRasters": null,
 "allowComputeTiePoints": false,
 "useStandardizedQueries": true,
 "advancedQueryCapabilities": {
  "useStandardizedQueries": true,
  "supportsStatistics": false,
  "supportsOrderBy": false,
  "supportsDistinct": false,
  "supportsPagination": false
 },
 "spatialReference": {
  "wkid": 103176,
  "latestWkid": 6593
 }
}
