{
 "currentVersion": 10.9,
 "serviceDescription": "Montpelier Madison Plat 1844",
 "name": "MPdata/Base_MadisonPlat1844",
 "description": "Montpelier Madison Plat 1844",
 "extent": {
  "xmin": 1.157021519848961E7,
  "ymin": 6753048.905299064,
  "xmax": 1.1587224981385987E7,
  "ymax": 6768604.483958186,
  "spatialReference": {
   "wkid": 103176,
   "latestWkid": 6593
  }
 },
 "initialExtent": {
  "xmin": 1.157021519848961E7,
  "ymin": 6753048.905299064,
  "xmax": 1.1587224981385987E7,
  "ymax": 6768604.483958186,
  "spatialReference": {
   "wkid": 103176,
   "latestWkid": 6593
  }
 },
 "fullExtent": {
  "xmin": 1.157021519848961E7,
  "ymin": 6753048.905299064,
  "xmax": 1.1587224981385987E7,
  "ymax": 6768604.483958186,
  "spatialReference": {
   "wkid": 103176,
   "latestWkid": 6593
  }
 },
 "pixelSizeX": 6.295256438333511,
 "pixelSizeY": 6.295256438333419,
 "bandCount": 1,
 "pixelType": "U8",
 "minPixelSize": 0,
 "maxPixelSize": 0,
 "copyrightText": "University of Arkansas, CAST",
 "serviceDataType": "esriImageServiceDataTypeGeneric",
 "minValues": [
  7
 ],
 "maxValues": [
  255
 ],
 "meanValues": [
  137.53362377281
 ],
 "stdvValues": [
  48.370153296993
 ],
 "objectIdField": "",
 "fields": [],
 "capabilities": "Image,Metadata,Mensuration",
 "defaultMosaicMethod": "Center",
 "allowedMosaicMethods": "",
 "sortField": "",
 "sortValue": null,
 "sortAscending": true,
 "mosaicOperator": "First",
 "defaultCompressionQuality": 75,
 "defaultResamplingMethod": "Bilinear",
 "maxImageHeight": 4100,
 "maxImageWidth": 15000,
 "allowRasterFunction": true,
 "rasterFunctionInfos": [
  {
   "name": "None",
   "description": "",
   "help": ""
  }
 ],
 "rasterTypeInfos": [
  {
   "name": "Raster Dataset",
   "description": "Supports all ArcGIS Raster Datasets",
   "help": ""
  }
 ],
 "mensurationCapabilities": "Basic",
 "hasHistograms": true,
 "hasColormap": false,
 "hasRasterAttributeTable": false,
 "minScale": 0,
 "maxScale": 0,
 "exportTilesAllowed": false,
 "hasMultidimensions": false,
 "supportsStatistics": false,
 "supportsAdvancedQueries": false,
 "editFieldsInfo": null,
 "ownershipBasedAccessControlForRasters": null,
 "allowComputeTiePoints": false,
 "useStandardizedQueries": true,
 "advancedQueryCapabilities": {
  "useStandardizedQueries": true,
  "supportsStatistics": false,
  "supportsOrderBy": false,
  "supportsDistinct": false,
  "supportsPagination": false
 },
 "spatialReference": {
  "wkid": 103176,
  "latestWkid": 6593
 }
}
