{
 "currentVersion": 10.9,
 "serviceDescription": "Montpelier Field Quarters Ortho-mosaic",
 "name": "MPdata/Base_MontpelierFieldQuartersOrthomosaic",
 "description": "Montpelier Field Quarters Ortho-mosaic",
 "extent": {
  "xmin": 1.1574829841389429E7,
  "ymin": 6761102.674152158,
  "xmax": 1.1578256212489428E7,
  "ymax": 6763879.5714854915,
  "spatialReference": {
   "wkid": 103176,
   "latestWkid": 6593
  }
 },
 "initialExtent": {
  "xmin": 1.1574829841389429E7,
  "ymin": 6761102.674152158,
  "xmax": 1.1578256212489428E7,
  "ymax": 6763879.5714854915,
  "spatialReference": {
   "wkid": 103176,
   "latestWkid": 6593
  }
 },
 "fullExtent": {
  "xmin": 1.1574829841389429E7,
  "ymin": 6761102.674152158,
  "xmax": 1.1578256212489428E7,
  "ymax": 6763879.5714854915,
  "spatialReference": {
   "wkid": 103176,
   "latestWkid": 6593
  }
 },
 "pixelSizeX": 0.06561666666665086,
 "pixelSizeY": 0.06561666666666514,
 "bandCount": 4,
 "pixelType": "U8",
 "minPixelSize": 0,
 "maxPixelSize": 0,
 "copyrightText": "University of Arkansas, CAST",
 "serviceDataType": "esriImageServiceDataTypeGeneric",
 "minValues": [
  5,
  11,
  9,
  255
 ],
 "maxValues": [
  253,
  255,
  255,
  255
 ],
 "meanValues": [
  124.35023574893,
  119.10081139987,
  103.78290742124,
  255
 ],
 "stdvValues": [
  25.779136715304,
  24.130374888425,
  22.199862975899,
  0
 ],
 "objectIdField": "",
 "fields": [],
 "capabilities": "Image,Metadata,Mensuration",
 "defaultMosaicMethod": "Center",
 "allowedMosaicMethods": "",
 "sortField": "",
 "sortValue": null,
 "sortAscending": true,
 "mosaicOperator": "First",
 "defaultCompressionQuality": 75,
 "defaultResamplingMethod": "Bilinear",
 "maxImageHeight": 4100,
 "maxImageWidth": 15000,
 "allowRasterFunction": true,
 "rasterFunctionInfos": [
  {
   "name": "None",
   "description": "",
   "help": ""
  }
 ],
 "rasterTypeInfos": [
  {
   "name": "Raster Dataset",
   "description": "Supports all ArcGIS Raster Datasets",
   "help": ""
  }
 ],
 "mensurationCapabilities": "Basic",
 "hasHistograms": true,
 "hasColormap": false,
 "hasRasterAttributeTable": false,
 "minScale": 0,
 "maxScale": 0,
 "exportTilesAllowed": false,
 "hasMultidimensions": false,
 "supportsStatistics": false,
 "supportsAdvancedQueries": false,
 "editFieldsInfo": null,
 "ownershipBasedAccessControlForRasters": null,
 "allowComputeTiePoints": false,
 "useStandardizedQueries": true,
 "advancedQueryCapabilities": {
  "useStandardizedQueries": true,
  "supportsStatistics": false,
  "supportsOrderBy": false,
  "supportsDistinct": false,
  "supportsPagination": false
 },
 "spatialReference": {
  "wkid": 103176,
  "latestWkid": 6593
 }
}
