{
 "currentVersion": 10.9,
 "serviceDescription": "Montpelier RVT Open-Positive",
 "name": "MPdata/MP_RVT_OpP",
 "description": "Montpelier RVT Open-Positive",
 "extent": {
  "xmin": 1.1567989999949008E7,
  "ymin": 6755989.999886841,
  "xmax": 1.1587509999949008E7,
  "ymax": 6771009.999886841,
  "spatialReference": {
   "wkid": 103176,
   "latestWkid": 6593
  }
 },
 "initialExtent": {
  "xmin": 1.1567989999949008E7,
  "ymin": 6755989.999886841,
  "xmax": 1.1587509999949008E7,
  "ymax": 6771009.999886841,
  "spatialReference": {
   "wkid": 103176,
   "latestWkid": 6593
  }
 },
 "fullExtent": {
  "xmin": 1.1567989999949008E7,
  "ymin": 6755989.999886841,
  "xmax": 1.1587509999949008E7,
  "ymax": 6771009.999886841,
  "spatialReference": {
   "wkid": 103176,
   "latestWkid": 6593
  }
 },
 "pixelSizeX": 0.4,
 "pixelSizeY": 0.4,
 "bandCount": 1,
 "pixelType": "F32",
 "minPixelSize": 0,
 "maxPixelSize": 0,
 "copyrightText": "University of Arkansas, CAST",
 "serviceDataType": "esriImageServiceDataTypeGeneric",
 "minValues": [
  0
 ],
 "maxValues": [
  151.57699584961
 ],
 "meanValues": [
  88.427148810706
 ],
 "stdvValues": [
  4.926056076036
 ],
 "objectIdField": "",
 "fields": [],
 "capabilities": "Image,Metadata,Mensuration",
 "defaultMosaicMethod": "Center",
 "allowedMosaicMethods": "",
 "sortField": "",
 "sortValue": null,
 "sortAscending": true,
 "mosaicOperator": "First",
 "defaultCompressionQuality": 75,
 "defaultResamplingMethod": "Bilinear",
 "maxImageHeight": 4100,
 "maxImageWidth": 15000,
 "allowRasterFunction": true,
 "rasterFunctionInfos": [
  {
   "name": "None",
   "description": "",
   "help": ""
  }
 ],
 "rasterTypeInfos": [
  {
   "name": "Raster Dataset",
   "description": "Supports all ArcGIS Raster Datasets",
   "help": ""
  }
 ],
 "mensurationCapabilities": "Basic",
 "hasHistograms": true,
 "hasColormap": false,
 "hasRasterAttributeTable": false,
 "minScale": 0,
 "maxScale": 0,
 "exportTilesAllowed": false,
 "hasMultidimensions": false,
 "supportsStatistics": false,
 "supportsAdvancedQueries": false,
 "editFieldsInfo": null,
 "ownershipBasedAccessControlForRasters": null,
 "allowComputeTiePoints": false,
 "useStandardizedQueries": true,
 "advancedQueryCapabilities": {
  "useStandardizedQueries": true,
  "supportsStatistics": false,
  "supportsOrderBy": false,
  "supportsDistinct": false,
  "supportsPagination": false
 },
 "spatialReference": {
  "wkid": 103176,
  "latestWkid": 6593
 }
}
