{
 "currentVersion": 10.9,
 "serviceDescription": "Montpelier RVT Simple Local Relief Model",
 "name": "MPdata/MP_RVT_SLRM",
 "description": "Montpelier RVT Simple Local Relief Model",
 "extent": {
  "xmin": 1.156798999994634E7,
  "ymin": 6755989.999889508,
  "xmax": 1.158750999994634E7,
  "ymax": 6771009.999889508,
  "spatialReference": {
   "wkid": 103176,
   "latestWkid": 6593
  }
 },
 "initialExtent": {
  "xmin": 1.156798999994634E7,
  "ymin": 6755989.999889508,
  "xmax": 1.158750999994634E7,
  "ymax": 6771009.999889508,
  "spatialReference": {
   "wkid": 103176,
   "latestWkid": 6593
  }
 },
 "fullExtent": {
  "xmin": 1.156798999994634E7,
  "ymin": 6755989.999889508,
  "xmax": 1.158750999994634E7,
  "ymax": 6771009.999889508,
  "spatialReference": {
   "wkid": 103176,
   "latestWkid": 6593
  }
 },
 "pixelSizeX": 0.4,
 "pixelSizeY": 0.4,
 "bandCount": 1,
 "pixelType": "F32",
 "minPixelSize": 0,
 "maxPixelSize": 0,
 "copyrightText": "University of Arkansas, CAST",
 "serviceDataType": "esriImageServiceDataTypeGeneric",
 "minValues": [
  -10.021738052368
 ],
 "maxValues": [
  8.9478740692139
 ],
 "meanValues": [
  -1.1402762153309E-5
 ],
 "stdvValues": [
  0.15664229131133
 ],
 "objectIdField": "",
 "fields": [],
 "capabilities": "Image,Metadata,Mensuration",
 "defaultMosaicMethod": "Center",
 "allowedMosaicMethods": "",
 "sortField": "",
 "sortValue": null,
 "sortAscending": true,
 "mosaicOperator": "First",
 "defaultCompressionQuality": 75,
 "defaultResamplingMethod": "Bilinear",
 "maxImageHeight": 4100,
 "maxImageWidth": 15000,
 "allowRasterFunction": true,
 "rasterFunctionInfos": [
  {
   "name": "None",
   "description": "",
   "help": ""
  }
 ],
 "rasterTypeInfos": [
  {
   "name": "Raster Dataset",
   "description": "Supports all ArcGIS Raster Datasets",
   "help": ""
  }
 ],
 "mensurationCapabilities": "Basic",
 "hasHistograms": true,
 "hasColormap": false,
 "hasRasterAttributeTable": false,
 "minScale": 0,
 "maxScale": 0,
 "exportTilesAllowed": false,
 "hasMultidimensions": false,
 "supportsStatistics": false,
 "supportsAdvancedQueries": false,
 "editFieldsInfo": null,
 "ownershipBasedAccessControlForRasters": null,
 "allowComputeTiePoints": false,
 "useStandardizedQueries": true,
 "advancedQueryCapabilities": {
  "useStandardizedQueries": true,
  "supportsStatistics": false,
  "supportsOrderBy": false,
  "supportsDistinct": false,
  "supportsPagination": false
 },
 "spatialReference": {
  "wkid": 103176,
  "latestWkid": 6593
 }
}
