View In:
ArcGIS JavaScript
ArcGIS Online Map Viewer
ArcGIS Earth
ArcMap
View Footprint In:
ArcGIS Online Map Viewer
Service Description: Montpelier Madison Drone 2017
Name: MPdata/Base_MansionDrone2017
Description: Montpelier Madison Drone 2017
Single Fused Map Cache: false
Extent:
XMin: 1.1577574776025278E7
YMin: 6762143.918905216
XMax: 1.1578463177398078E7
YMax: 6763347.953242551
Spatial Reference: 103176
(6593)
Initial Extent:
XMin: 1.1577574776025278E7
YMin: 6762143.918905216
XMax: 1.1578463177398078E7
YMax: 6763347.953242551
Spatial Reference: 103176
(6593)
Full Extent:
XMin: 1.1577574776025278E7
YMin: 6762143.918905216
XMax: 1.1578463177398078E7
YMax: 6763347.953242551
Spatial Reference: 103176
(6593)
Pixel Size X: 0.15852986666660418
Pixel Size Y: 0.15852986666679852
Band Count: 4
Pixel Type: U8
RasterFunction Infos: {"rasterFunctionInfos": [{
"name": "None",
"description": "",
"help": ""
}]}
Mensuration Capabilities: Basic
Has Histograms: true
Has Colormap: false
Has Multi Dimensions : false
Rendering Rule:
Min Scale: 0
Max Scale: 0
Copyright Text: University of Arkansas, CAST
Service Data Type: esriImageServiceDataTypeGeneric
Min Values: 0, 0, 0, 0
Max Values: 255, 255, 255, 255
Mean Values: 96.433392376084, 100.98177176652, 89.944144758822, 189.95250841236
Standard Deviation Values: 66.192998897596, 67.817081968707, 61.432886662126, 111.15725115037
Object ID Field:
Fields:
None
Default Mosaic Method: Center
Allowed Mosaic Methods:
SortField:
SortValue: null
Mosaic Operator: First
Default Compression Quality: 75
Default Resampling Method: Bilinear
Max Record Count: null
Max Image Height: 4100
Max Image Width: 15000
Max Download Image Count: null
Max Mosaic Image Count: null
Allow Raster Function: true
Allow Copy: null
Allow Analysis: null
Allow Compute TiePoints: false
Supports Statistics: false
Supports Advanced Queries: false
Use StandardizedQueries: true
Raster Type Infos:
Name: Raster Dataset
Description: Supports all ArcGIS Raster Datasets
Help:
Has Raster Attribute Table: false
Edit Fields Info: null
Ownership Based AccessControl For Rasters: null
Child Resources:
Info
Histograms
Key Properties
Legend
Raster Function Infos
Supported Operations:
Export Image
Identify
Measure
Compute Histograms
Compute Statistics Histograms
Get Samples
Compute Class Statistics
Query Boundary
Compute Pixel Location
Validate
Project