View In:
ArcGIS JavaScript
ArcGIS Online Map Viewer
ArcGIS Earth
ArcMap
View Footprint In:
ArcGIS Online Map Viewer
Service Description: Montpelier Property Map 1908
Name: MPdata/Base_PropertyMap1908
Description: Montpelier Property Map 1908
Single Fused Map Cache: false
Extent:
XMin: 1.1566540786701715E7
YMin: 6754954.3225149
XMax: 1.1584923458333805E7
YMax: 6772048.909454696
Spatial Reference: 103176
(6593)
Initial Extent:
XMin: 1.1566540786701715E7
YMin: 6754954.3225149
XMax: 1.1584923458333805E7
YMax: 6772048.909454696
Spatial Reference: 103176
(6593)
Full Extent:
XMin: 1.1566540786701715E7
YMin: 6754954.3225149
XMax: 1.1584923458333805E7
YMax: 6772048.909454696
Spatial Reference: 103176
(6593)
Pixel Size X: 2.3976355330755945
Pixel Size Y: 2.5139098440876286
Band Count: 3
Pixel Type: U8
RasterFunction Infos: {"rasterFunctionInfos": [{
"name": "None",
"description": "",
"help": ""
}]}
Mensuration Capabilities: Basic
Has Histograms: true
Has Colormap: false
Has Multi Dimensions : false
Rendering Rule:
Min Scale: 0
Max Scale: 0
Copyright Text: University of Arkansas, CAST
Service Data Type: esriImageServiceDataTypeRGB
Min Values: 0, 0, 0
Max Values: 254, 254, 254
Mean Values: 245.34032642654, 245.34032642654, 245.34032642654
Standard Deviation Values: 41.921836704789, 41.921836704789, 41.921836704789
Object ID Field:
Fields:
None
Default Mosaic Method: Center
Allowed Mosaic Methods:
SortField:
SortValue: null
Mosaic Operator: First
Default Compression Quality: 75
Default Resampling Method: Bilinear
Max Record Count: null
Max Image Height: 4100
Max Image Width: 15000
Max Download Image Count: null
Max Mosaic Image Count: null
Allow Raster Function: true
Allow Copy: null
Allow Analysis: null
Allow Compute TiePoints: false
Supports Statistics: false
Supports Advanced Queries: false
Use StandardizedQueries: true
Raster Type Infos:
Name: Raster Dataset
Description: Supports all ArcGIS Raster Datasets
Help:
Has Raster Attribute Table: false
Edit Fields Info: null
Ownership Based AccessControl For Rasters: null
Child Resources:
Info
Histograms
Key Properties
Legend
Raster Function Infos
Supported Operations:
Export Image
Identify
Measure
Compute Histograms
Compute Statistics Histograms
Get Samples
Compute Class Statistics
Query Boundary
Compute Pixel Location
Validate
Project