View In:
ArcGIS JavaScript
ArcGIS Online Map Viewer
ArcGIS Earth
ArcMap
View Footprint In:
ArcGIS Online Map Viewer
Service Description: Montpelier Survey Map 1948
Name: MPdata/Base_SurveyMap1948
Description: Montpelier Survey Map 1948
Single Fused Map Cache: false
Extent:
XMin: 1.1567346572269687E7
YMin: 6755238.684979812
XMax: 1.1587390452929877E7
YMax: 6771570.653713448
Spatial Reference: 103176
(6593)
Initial Extent:
XMin: 1.1567346572269687E7
YMin: 6755238.684979812
XMax: 1.1587390452929877E7
YMax: 6771570.653713448
Spatial Reference: 103176
(6593)
Full Extent:
XMin: 1.1567346572269687E7
YMin: 6755238.684979812
XMax: 1.1587390452929877E7
YMax: 6771570.653713448
Spatial Reference: 103176
(6593)
Pixel Size X: 1.1093580174999622
Pixel Size Y: 1.1093580175000497
Band Count: 1
Pixel Type: U8
RasterFunction Infos: {"rasterFunctionInfos": [{
"name": "None",
"description": "",
"help": ""
}]}
Mensuration Capabilities: Basic
Has Histograms: true
Has Colormap: false
Has Multi Dimensions : false
Rendering Rule:
Min Scale: 0
Max Scale: 0
Copyright Text: University of Arkansas, CAST
Service Data Type: esriImageServiceDataTypeThematic
Min Values: 0
Max Values: 1
Mean Values: 0.98064325873158
Standard Deviation Values: 0.13777538939531
Object ID Field:
Fields:
None
Default Mosaic Method: Center
Allowed Mosaic Methods:
SortField:
SortValue: null
Mosaic Operator: First
Default Compression Quality: 75
Default Resampling Method: Bilinear
Max Record Count: null
Max Image Height: 4100
Max Image Width: 15000
Max Download Image Count: null
Max Mosaic Image Count: null
Allow Raster Function: true
Allow Copy: null
Allow Analysis: null
Allow Compute TiePoints: false
Supports Statistics: false
Supports Advanced Queries: false
Use StandardizedQueries: true
Raster Type Infos:
Name: Raster Dataset
Description: Supports all ArcGIS Raster Datasets
Help:
Has Raster Attribute Table: false
Edit Fields Info: null
Ownership Based AccessControl For Rasters: null
Child Resources:
Info
Histograms
Key Properties
Legend
Raster Function Infos
Supported Operations:
Export Image
Identify
Measure
Compute Histograms
Compute Statistics Histograms
Get Samples
Compute Class Statistics
Query Boundary
Compute Pixel Location
Validate
Project