View In:
ArcGIS JavaScript
ArcGIS Online Map Viewer
ArcGIS Earth
ArcMap
View Footprint In:
ArcGIS Online Map Viewer
Service Description: MP RVT Hillshade
Name: MPdata/MP_RVT_HS
Description: MP RVT Hillshade
Single Fused Map Cache: false
Extent:
XMin: 1.156798999994634E7
YMin: 6755989.999889508
XMax: 1.158750999994634E7
YMax: 6771009.999889508
Spatial Reference: 103176
(6593)
Initial Extent:
XMin: 1.156798999994634E7
YMin: 6755989.999889508
XMax: 1.158750999994634E7
YMax: 6771009.999889508
Spatial Reference: 103176
(6593)
Full Extent:
XMin: 1.156798999994634E7
YMin: 6755989.999889508
XMax: 1.158750999994634E7
YMax: 6771009.999889508
Spatial Reference: 103176
(6593)
Pixel Size X: 0.4
Pixel Size Y: 0.4
Band Count: 1
Pixel Type: F32
RasterFunction Infos: {"rasterFunctionInfos": [{
"name": "None",
"description": "",
"help": ""
}]}
Mensuration Capabilities: Basic
Has Histograms: true
Has Colormap: false
Has Multi Dimensions : false
Rendering Rule:
Min Scale: 0
Max Scale: 0
Copyright Text: University of Arkansas, CAST
Service Data Type: esriImageServiceDataTypeGeneric
Min Values: -0.76443892717361
Max Values: 0.99999982118607
Mean Values: 0.57568689471667
Standard Deviation Values: 0.086078565190506
Object ID Field:
Fields:
None
Default Mosaic Method: Center
Allowed Mosaic Methods:
SortField:
SortValue: null
Mosaic Operator: First
Default Compression Quality: 75
Default Resampling Method: Bilinear
Max Record Count: null
Max Image Height: 4100
Max Image Width: 15000
Max Download Image Count: null
Max Mosaic Image Count: null
Allow Raster Function: true
Allow Copy: null
Allow Analysis: null
Allow Compute TiePoints: false
Supports Statistics: false
Supports Advanced Queries: false
Use StandardizedQueries: true
Raster Type Infos:
Name: Raster Dataset
Description: Supports all ArcGIS Raster Datasets
Help:
Has Raster Attribute Table: false
Edit Fields Info: null
Ownership Based AccessControl For Rasters: null
Child Resources:
Info
Histograms
Key Properties
Legend
Raster Function Infos
Supported Operations:
Export Image
Identify
Measure
Compute Histograms
Compute Statistics Histograms
Get Samples
Compute Class Statistics
Query Boundary
Compute Pixel Location
Validate
Project