View In:
ArcGIS JavaScript
ArcGIS Online Map Viewer
ArcGIS Earth
ArcMap
View Footprint In:
ArcGIS Online Map Viewer
Service Description: Montpelier NE Aerial imagery Base from 2016
Name: MPdata/Base_Aerial_NE_2016
Description: Montpelier NE Aerial imagery Base from 2016
Single Fused Map Cache: false
Extent:
XMin: 1.1571032360322347E7
YMin: 6749993.157159152
XMax: 1.1592328249489013E7
YMax: 6775813.315492486
Spatial Reference: 103176
(6593)
Initial Extent:
XMin: 1.1571032360322347E7
YMin: 6749993.157159152
XMax: 1.1592328249489013E7
YMax: 6775813.315492486
Spatial Reference: 103176
(6593)
Full Extent:
XMin: 1.1571032360322347E7
YMin: 6749993.157159152
XMax: 1.1592328249489013E7
YMax: 6775813.315492486
Spatial Reference: 103176
(6593)
Pixel Size X: 3.2808333333332604
Pixel Size Y: 3.2808333333333177
Band Count: 4
Pixel Type: U8
RasterFunction Infos: {"rasterFunctionInfos": [{
"name": "None",
"description": "",
"help": ""
}]}
Mensuration Capabilities: Basic
Has Histograms: true
Has Colormap: false
Has Multi Dimensions : false
Rendering Rule:
Min Scale: 0
Max Scale: 0
Copyright Text: University of Arkansas, CAST
Service Data Type: esriImageServiceDataTypeGeneric
Min Values: 26, 36, 48, 1
Max Values: 255, 255, 255, 253
Mean Values: 126.30227775711, 141.28060835074, 124.29094215298, 181.55849494845
Standard Deviation Values: 46.251104755624, 38.04038431184, 29.90802687553, 56.138051973954
Object ID Field:
Fields:
None
Default Mosaic Method: Center
Allowed Mosaic Methods:
SortField:
SortValue: null
Mosaic Operator: First
Default Compression Quality: 75
Default Resampling Method: Bilinear
Max Record Count: null
Max Image Height: 4100
Max Image Width: 15000
Max Download Image Count: null
Max Mosaic Image Count: null
Allow Raster Function: true
Allow Copy: null
Allow Analysis: null
Allow Compute TiePoints: false
Supports Statistics: false
Supports Advanced Queries: false
Use StandardizedQueries: true
Raster Type Infos:
Name: Raster Dataset
Description: Supports all ArcGIS Raster Datasets
Help:
Has Raster Attribute Table: false
Edit Fields Info: null
Ownership Based AccessControl For Rasters: null
Child Resources:
Info
Histograms
Key Properties
Legend
Raster Function Infos
Supported Operations:
Export Image
Identify
Measure
Compute Histograms
Compute Statistics Histograms
Get Samples
Compute Class Statistics
Query Boundary
Compute Pixel Location
Validate
Project