View In:
ArcGIS JavaScript
ArcGIS Online Map Viewer
ArcGIS Earth
ArcMap
View Footprint In:
ArcGIS Online Map Viewer
Service Description: Montpelier NW Aerial Imagery Base from 2016
Name: MPdata/Base_Aerial_NW_2016
Description: Montpelier NW Aerial Imagery Base from 2016
Single Fused Map Cache: false
Extent:
XMin: 1.1553084432238331E7
YMin: 6749936.64618526
XMax: 1.157436391723833E7
YMax: 6775743.68118526
Spatial Reference: 103176
(6593)
Initial Extent:
XMin: 1.1553084432238331E7
YMin: 6749936.64618526
XMax: 1.157436391723833E7
YMax: 6775743.68118526
Spatial Reference: 103176
(6593)
Full Extent:
XMin: 1.1553084432238331E7
YMin: 6749936.64618526
XMax: 1.157436391723833E7
YMax: 6775743.68118526
Spatial Reference: 103176
(6593)
Pixel Size X: 3.2808333333332413
Pixel Size Y: 3.2808333333333524
Band Count: 4
Pixel Type: U8
RasterFunction Infos: {"rasterFunctionInfos": [{
"name": "None",
"description": "",
"help": ""
}]}
Mensuration Capabilities: Basic
Has Histograms: true
Has Colormap: false
Has Multi Dimensions : false
Rendering Rule:
Min Scale: 0
Max Scale: 0
Copyright Text: University of Arkansas, CAST
Service Data Type: esriImageServiceDataTypeGeneric
Min Values: 26, 36, 38, 1
Max Values: 255, 255, 255, 254
Mean Values: 133.84907958899, 149.73879409576, 127.98027056315, 187.21721197366
Standard Deviation Values: 47.614002321347, 37.760933617215, 32.280252206983, 53.200109516099
Object ID Field:
Fields:
None
Default Mosaic Method: Center
Allowed Mosaic Methods:
SortField:
SortValue: null
Mosaic Operator: First
Default Compression Quality: 75
Default Resampling Method: Bilinear
Max Record Count: null
Max Image Height: 4100
Max Image Width: 15000
Max Download Image Count: null
Max Mosaic Image Count: null
Allow Raster Function: true
Allow Copy: null
Allow Analysis: null
Allow Compute TiePoints: false
Supports Statistics: false
Supports Advanced Queries: false
Use StandardizedQueries: true
Raster Type Infos:
Name: Raster Dataset
Description: Supports all ArcGIS Raster Datasets
Help:
Has Raster Attribute Table: false
Edit Fields Info: null
Ownership Based AccessControl For Rasters: null
Child Resources:
Info
Histograms
Key Properties
Legend
Raster Function Infos
Supported Operations:
Export Image
Identify
Measure
Compute Histograms
Compute Statistics Histograms
Get Samples
Compute Class Statistics
Query Boundary
Compute Pixel Location
Validate
Project