View In:
ArcGIS JavaScript
ArcGIS Online Map Viewer
ArcGIS Earth
ArcMap
View Footprint In:
ArcGIS Online Map Viewer
Service Description: Montpelier Madison Plat 1844
Name: MPdata/Base_MadisonPlat1844
Description: Montpelier Madison Plat 1844
Single Fused Map Cache: false
Extent:
XMin: 1.157021519848961E7
YMin: 6753048.905299064
XMax: 1.1587224981385987E7
YMax: 6768604.483958186
Spatial Reference: 103176
(6593)
Initial Extent:
XMin: 1.157021519848961E7
YMin: 6753048.905299064
XMax: 1.1587224981385987E7
YMax: 6768604.483958186
Spatial Reference: 103176
(6593)
Full Extent:
XMin: 1.157021519848961E7
YMin: 6753048.905299064
XMax: 1.1587224981385987E7
YMax: 6768604.483958186
Spatial Reference: 103176
(6593)
Pixel Size X: 6.295256438333511
Pixel Size Y: 6.295256438333419
Band Count: 1
Pixel Type: U8
RasterFunction Infos: {"rasterFunctionInfos": [{
"name": "None",
"description": "",
"help": ""
}]}
Mensuration Capabilities: Basic
Has Histograms: true
Has Colormap: false
Has Multi Dimensions : false
Rendering Rule:
Min Scale: 0
Max Scale: 0
Copyright Text: University of Arkansas, CAST
Service Data Type: esriImageServiceDataTypeGeneric
Min Values: 7
Max Values: 255
Mean Values: 137.53362377281
Standard Deviation Values: 48.370153296993
Object ID Field:
Fields:
None
Default Mosaic Method: Center
Allowed Mosaic Methods:
SortField:
SortValue: null
Mosaic Operator: First
Default Compression Quality: 75
Default Resampling Method: Bilinear
Max Record Count: null
Max Image Height: 4100
Max Image Width: 15000
Max Download Image Count: null
Max Mosaic Image Count: null
Allow Raster Function: true
Allow Copy: null
Allow Analysis: null
Allow Compute TiePoints: false
Supports Statistics: false
Supports Advanced Queries: false
Use StandardizedQueries: true
Raster Type Infos:
Name: Raster Dataset
Description: Supports all ArcGIS Raster Datasets
Help:
Has Raster Attribute Table: false
Edit Fields Info: null
Ownership Based AccessControl For Rasters: null
Child Resources:
Info
Histograms
Key Properties
Legend
Raster Function Infos
Supported Operations:
Export Image
Identify
Measure
Compute Histograms
Compute Statistics Histograms
Get Samples
Compute Class Statistics
Query Boundary
Compute Pixel Location
Validate
Project